Workbook
Name AcctDesc: Choices!$B$2:$B$19
Name Address: [1]Choices!$M$2:$M$9
Name Address: [1]Choices!$M$2:$M$9
Name Address: Choices!$M$2:$M$9
Name EnterPeriod: Choices2!$A$1:$A$27
Name Grants: [1]Choices!$O$3:$O$17
Name Grants: [1]Choices!$O$3:$O$17
Name Grants: Choices!$O$3:$O$16
Name HarlemMiddle: Choices!#REF!
Name HarlemMiddle: [1]Choices!#REF!
Name HarlemMiddle: [1]Choices!#REF!
Name HarlemMiddle: Choices!#REF!
Name Period: [1]Choices!$F$2:$F$28
Name Period: [1]Choices!$F$2:$F$28
Name Period: Choices!$F$2:$F$28
Name ProgramSchool: Choices2!$C$1:$C$9
Name SchoolChart: [1]Choices!$A$2:$A$46
Name SchoolChart: [1]Choices!$A$2:$A$46
Name SchoolChart: Choices!$A$2:$A$46
Name SchoolEntity: [1]Choices!$I$2:$I$10
Name SchoolEntity: [1]Choices!$I$2:$I$10
Name SchoolEntity: Choices!$I$2:$I$10
Name VANChart: Choices!#REF!
Name VANChart: [1]Choices!#REF!
Name VANChart: [1]Choices!#REF!
Name VANChart: Choices!#REF!
Name VANEntity: Choices!$I$12:$I$15

Sheet Policy, Directions & FAQ
A1: [INSERT ORGANIZATION NAME] EXPENSE REPORT DIRECTIONS
B2: Welcome to the [INSERT ORGANIZATION NAME]l Expense Form Directions & FAQ. This expense form is meant to expedite the process for employees to get expenses reimbursed while maintaining financial controls. The directions page has two sections: Directions - Contains step by step directions for reimbursement for school related expenses; Frequestly asked questions - Contains answers to commonly asked questions
B4: DIRECTIONS - A Sample Completed Form is included in the School Sample tab
B5: All cell references are for the Expense Report tab unless indicated otherwise. The Expense Report tab is the only tab that needs to be completed.
A7: 1 | B7: In cell C3, type your name.
A9: 2 | B9: In cells C4 & C5, enter your address.
A11: 3 | B11: In cell C6, enter the email address that you would like any questions sent to.
A13: 4 | B13: In cell C7, enter the phone number to be called if there are any questions.
A15: 5 | B15: In cell G3, using the pull down menu, pick the period for which your expenses relate. Each period in the menu covers 1/2 of a month. If you have expenses in more than one period, please fill out separate expense forms.
A17: 6 | B17: In cell G5, using the pull down menu, pick the description that best matches how the expense was spent. Split Schools implies that the expenditure was used proportionately by the schools. Split All Entities implies that the expenditures was used by the schools and other [ORGANIZATION] programs.
A19: 7 | B19: In cell G7, using the pull down menu, pick the location where you would like your reimbursement check to be sent. Please understand that sending checks interoffice can significantly delay your check.
A21: 8 | B21: In cell B11, using the pull down menu, pick the account description that best matches the items purchased in your first receipt. The first dozen categories are the ones that you are most likely going to use. If you are unsure about what the account descriptions mean, there are more detailed descriptions included on the Choices tab in cells A1-B68. For example, if you purchased math workbooks, you should select Consummables.
B23: Note: Column C will automatically fill itself - Please do not enter information in this column
A25: 9 | B25: In cell D11, enter the date of the receipt corresponding to the information inputted in cell B11. This date should be within the range listed in cell G3
A27: 10 | B27: In cell E11, enter the vendor (company) that the purchase was made from that corresponds to the information inputted in cell B11
A29: 11 | B29: In cell F11, enter a brief description of the good purchased corresponding to the information inputted in cell B11. If the receipt is for travel, indicate where the trip was to. If the receipt was for food, list all names of the people that ate. If the receipt is for client entertainment, include the date, purpose and client (donor) names
A31: 12 | B31: In cell H11 enter the amount of the receipt corresponding to the information inputted in cell B11. Include amounts for tips or delivery charges in the amount entered.
B33: Note: If you have a receipt that should be split between multiple account descriptions, you can use multiple lines to indicate this. In each description, indicate the amount of the total receipt.
A35: 13 | B35: Mark the receipt corresponding to the information inputted in cell B11 with the number in cell A11. For example, if you were submitted the reimbursement on the School Sample tab, you would put a "1" on the receipt from Gimme a Book.
A37: 14 | B37: Repeat steps 7-13 for each receipt
B39: Note: If you need more lines, please let the finance department know and they add more lines . Please do not add lines using another methodology as the formulas may not work.
A41: [INSERT ORGANIZATION NAME] EXPENSE REPORT DIRECTIONS - CONTINUED
A43: 15 | B43: Look at cell F64. It should say OK TO SEND. If it indicates that there is an error, look at column J for information on the error and fix the error before sending in for processing
A45: 16 | B45: Tape all receipts to standard pieces of paper (8 1/2 x 11 inch; please stay within the borders of the paper)
A47: 17 | B47: If submitting electronically, email the form and receipts (scanned) to the finance department and the budget manager. In the email indicate that you approve the expenses and request the budget manager to email their approval. The respective Principals are the budget managers for the schools.
B49: Note: If the expense report is split between programs/schools, then you need to get approval from the principal in your school. In addition, if the amount charged to another program is above $250, you need to get approval from the program manager(s) being charged.
A51: 18 | B51: If submitting electronically, processing will begin once we receive the emailed form & receipts, your approval and the budget manager's approval. However, you still need to forward hard copies of the signed form and original receipts to the finance department. Please keep a copy of all submitted items in case there is a problem during processing.
A53: 19 | B53: If submitting by mail, sign & date the form where it says Employee Signature (Cell B69) and Date (Cell B72). Then have your budget manager sign and date the form (Cells F69 and F72). The respective Principals are the budget managers for the schools.
B55: FINAL CHECK: Before submitting, please make sure that cell F64 does not indicate any errors, it is approved by both yourself and the budget manager and that all receipts are included.
A57: FREQUENTLY ASKED QUESTIONS
A58: 1 | B58: When should I expect to be reimbursed for my expenses?
B59: While the timing can vary, employees should expect to be reimbursed for expenses in approximately 15 days of the submission of an approved expense report. In many cases, expense reimbursements are processed even quicker. Our goal is to process expense reports on a weekly basis.
A61: 2 | B61: What are the caps on travel costs?
B62: All out-of-pocket and travel reimbursement request will include original receipts and be presented in a form acceptable
B63: to [ORGANIZATION]. While traveling you are reimbursed up to a maximum of $10 for breakfast, $15 for lunch and $30 for
B64: dinner. Any alcholic beverages will not be reimbursed.
A66: 3 | B66: I have expenses for more than one entity, can I include them all on one form?
B67: Unfortunately, separate forms need to be used for expenses related to each program as each program/school has different budget managers. If an expense needs to be split between two programs/schools, please submit two expense forms and a attached a copy of the receipt with each indicating the breakdown of charges between the schools.
A69: 4 | B69: Should I be paying sales tax on purchases?
B70: All purchases should be Louisiana state tax exempt and therefore you should do your best to save the school money by not paying taxes to enable us to provide the best possible education for the students. As such, you should bring with you the tax exempt forms for the entity that you are making the purchase for. The Operations staff of the schools and finance department can provide you these forms.
...

Sheet Expense Report
A1: [INSERT ORGANIZATION NAME] | G1: EXPENSE REPORT
O2: Accounting Purposes Only
B3: Name | G3: Period Covered | H3: Enter Period | K3: =IF(H3="Enter Period","Error - Need to Enter Period",IF(H5="Enter Entity","Error - Need to Enter Entity",IF(C3="","Error - Need to Enter Name",IF(C4="","Error - Need to Enter Address",IF(C5="","Error - Need to Enter City, State Zip",""))))) -> Error - Need to Enter Period | O3: Entry Date | P3: =IF(H3="Enter Period",TODAY(),VLOOKUP(H3,Choices!F2:G28,2,FALSE)) -> 40431
B4: Address | O4: ABR Code
B5: City, State Zip | G5: Program/School | H5: Enter Program/School | O5: Invoice #
B6: Preferred Email | O6: Due Date | P6: =TODAY()+10 -> 40441
B7: Preferred Phone | G7: Delivery of Check | H7: Address on Form
O8: ABR | P8: =I61-SUM(P9:P11) -> 0
B9: All expenses Require Receipts | O9: Glen Oaks | P9: =ROUND(IF(H5="Glen Oaks",I61,IF(H5="Split Schools Only",0.374*I61,IF(H5="split all entities",0.345*I61,0))),2) -> 0
B10: Account Description | C10: Acct # | D10: Grants | E10: Date | F10: Vendor | G10: Description of Goods | I10: Amount | O10: Prescott | P10: =ROUND(IF(H5="Prescott",I61,IF(H5="Split Schools Only",0.372*I61,IF(H5="split all entities",0.343*I61,0))),2) -> 0
A11: 1 | B11: Enter Account Title | C11: =IF(B11="Enter Account Title","",VLOOKUP(B11,Choices!$A$3:$C$47,3,FALSE)) | D11: No grant | K11: =IF(I11=0,"",IF(C11="","Error","")) | O11: Pointe Coupee | P11: =ROUND(IF(H5="Pointe Coupee",I61,IF(H5="Split Schools Only",0.254*I61,IF(H5="split all entities",0.234*I61,0))),2) -> 0
A12: 2 | B12: Enter Account Title | C12: =IF(B12="Enter Account Title","",VLOOKUP(B12,Choices!$A$3:$C$47,3,FALSE)) | D12: No grant | K12: =IF(I12=0,"",IF(C12="","Error",""))
A13: 3 | B13: Enter Account Title | C13: =IF(B13="Enter Account Title","",VLOOKUP(B13,Choices!$A$3:$C$47,3,FALSE)) | D13: No grant | K13: =IF(I13=0,"",IF(C13="","Error",""))
A14: 4 | B14: Enter Account Title | C14: =IF(B14="Enter Account Title","",VLOOKUP(B14,Choices!$A$3:$C$47,3,FALSE)) | D14: No grant | K14: =IF(I14=0,"",IF(C14="","Error",""))
A15: 5 | B15: Enter Account Title | C15: =IF(B15="Enter Account Title","",VLOOKUP(B15,Choices!$A$3:$C$47,3,FALSE)) | D15: No grant | K15: =IF(I15=0,"",IF(C15="","Error",""))
A16: 6 | B16: Enter Account Title | C16: =IF(B16="Enter Account Title","",VLOOKUP(B16,Choices!$A$3:$C$47,3,FALSE)) | D16: No grant | K16: =IF(I16=0,"",IF(C16="","Error",""))
A17: 7 | B17: Enter Account Title | C17: =IF(B17="Enter Account Title","",VLOOKUP(B17,Choices!$A$3:$C$47,3,FALSE)) | D17: No grant | K17: =IF(I17=0,"",IF(C17="","Error",""))
A18: 8 | B18: Enter Account Title | C18: =IF(B18="Enter Account Title","",VLOOKUP(B18,Choices!$A$3:$C$47,3,FALSE)) | D18: No grant | K18: =IF(I18=0,"",IF(C18="","Error",""))
A19: 9 | B19: Enter Account Title | C19: =IF(B19="Enter Account Title","",VLOOKUP(B19,Choices!$A$3:$C$47,3,FALSE)) | D19: No grant | K19: =IF(I19=0,"",IF(C19="","Error",""))
A20: 10 | B20: Enter Account Title | C20: =IF(B20="Enter Account Title","",VLOOKUP(B20,Choices!$A$3:$C$47,3,FALSE)) | D20: No grant | K20: =IF(I20=0,"",IF(C20="","Error",""))
A21: 11 | B21: Enter Account Title | C21: =IF(B21="Enter Account Title","",VLOOKUP(B21,Choices!$A$3:$C$47,3,FALSE)) | D21: No grant | K21: =IF(I21=0,"",IF(C21="","Error",""))
A22: 12 | B22: Enter Account Title | C22: =IF(B22="Enter Account Title","",VLOOKUP(B22,Choices!$A$3:$C$47,3,FALSE)) | D22: No grant | K22: =IF(I22=0,"",IF(C22="","Error",""))
A23: 13 | B23: Enter Account Title | C23: =IF(B23="Enter Account Title","",VLOOKUP(B23,Choices!$A$3:$C$47,3,FALSE)) | D23: No grant | K23: =IF(I23=0,"",IF(C23="","Error",""))
... A60: 50 | B60: Enter Account Title | C60: =IF(B60="Enter Account Title","",VLOOKUP(B60,Choices!$A$3:$C$47,3,FALSE)) | D60: No grant | K60: =IF(I60=0,"",IF(C60="","Error",""))
B61: Total | I61: =SUM(I11:I60) -> 0
B63: Descriptions for travel are required to include city & state going to as well as purpose
B64: Descriptions for meals are required to include the names of all people eating | G64: =IF(COUNTIF(K11:K60,"ERROR")>0,"ERROR - NOT READY TO SEND IN",IF(K3="","OK TO SEND","ERROR - NOT READY TO SEND IN")) -> ERROR - NOT READY TO SEND IN
B65: Descriptions for client entertainment are required to include date, purpose and client (donor) names
B70: Employee Signature | F70: Approver's Name | G70: Approver's Signature
B73: Date | G73: Date
B78: FINAL CHECK
B79: Please make sure to submit all of the items below
B80: 1) This form with no Error Messages
B81: 2) Employee signature or electonic approval if emailing
B82: 3) Approver signature or eletronic approval from the manager
B83: 4) All receipts taped to a standard sheet of paper with the receipts labeled to match the numbers in column A
A85: * Last updated June 21, 2010

Sheet Expense Report Sample
A1: ADVANCE BATON ROUGE | G1: EXPENSE REPORT
O2: Accounting Purposes Only
B3: Name | C3: John Doe | G3: Period Covered | H3: Jun 16-30, 2009 | K3: =IF(H3="Enter Period","Error - Need to Enter Period",IF(H5="Enter Entity","Error - Need to Enter Entity",IF(C3="","Error - Need to Enter Name",IF(C4="","Error - Need to Enter Address",IF(C5="","Error - Need to Enter City, State Zip",""))))) | O3: Entry Date | P3: =IF(H3="Enter Period",TODAY(),VLOOKUP(H3,Choices!F2:G28,2,FALSE)) -> #N/A
B4: Address | C4: 102 Florida Street | O4: ABR Code
B5: City, State Zip | C5: Baton Rogue, LA 70801 | G5: Program/School | H5: Pointe Coupee | O5: Invoice #
B6: Preferred Email | C6: johndoe@advancebatonrouge.org | O6: Due Date | P6: =TODAY()+10 -> 40441
B7: Preferred Phone | C7: 555-555-5555 | G7: Delivery of Check | H7: Address on Form
O8: ABR | P8: =I61-SUM(P9:P11) -> 0
B9: All expenses Require Receipts | O9: Glen Oaks | P9: =ROUND(IF(H5="Glen Oaks",I61,IF(H5="Split Schools Only",0.374*I61,IF(H5="split all entities",0.345*I61,0))),2) -> 0
B10: Account Description | C10: Acct # | D10: Grants | E10: Date | F10: Vendor | G10: Description of Goods | I10: Amount | O10: Prescott | P10: =ROUND(IF(H5="Prescott",I61,IF(H5="Split Schools Only",0.372*I61,IF(H5="split all entities",0.343*I61,0))),2) -> 0
A11: 1 | B11: Classroom Supplies | C11: =IF(B11="Enter Account Title","",VLOOKUP(B11,Choices!$A$3:$C$47,3,FALSE)) -> 110611 | D11: No grant | E11: 39586 | F11: Joe's Stationary | G11: Colored Paper | I11: 12.99 | K11: =IF(I11=0,"",IF(C11="","Error","")) | O11: Pointe Coupee | P11: =ROUND(IF(H5="Pointe Coupee",I61,IF(H5="Split Schools Only",0.254*I61,IF(H5="split all entities",0.234*I61,0))),2) -> 73.74
A12: 2 | B12: Library Books | C12: =IF(B12="Enter Account Title","",VLOOKUP(B12,Choices!$A$3:$C$47,3,FALSE)) -> 225641 | D12: No grant | E12: 39588 | F12: You Read It.com | G12: Books for students | I12: 25.75 | K12: =IF(I12=0,"",IF(C12="","Error",""))
A13: 3 | B13: Professional Development OTPS | C13: =IF(B13="Enter Account Title","",VLOOKUP(B13,Choices!$A$3:$C$47,3,FALSE)) -> 223325 | D13: No grant | E13: 39593 | F13: Ma's Po Boys | G13: Dinner with Leslie Smith and Donald White to discuss math program | I13: 35 | K13: =IF(I13=0,"",IF(C13="","Error",""))
A14: 4 | B14: Enter Account Title | C14: =IF(B14="Enter Account Title","",VLOOKUP(B14,Choices!$A$3:$C$47,3,FALSE)) | D14: No grant | K14: =IF(I14=0,"",IF(C14="","Error",""))
A15: 5 | B15: Enter Account Title | C15: =IF(B15="Enter Account Title","",VLOOKUP(B15,Choices!$A$3:$C$47,3,FALSE)) | D15: No grant | K15: =IF(I15=0,"",IF(C15="","Error",""))
A16: 6 | B16: Enter Account Title | C16: =IF(B16="Enter Account Title","",VLOOKUP(B16,Choices!$A$3:$C$47,3,FALSE)) | D16: No grant | K16: =IF(I16=0,"",IF(C16="","Error",""))
A17: 7 | B17: Enter Account Title | C17: =IF(B17="Enter Account Title","",VLOOKUP(B17,Choices!$A$3:$C$47,3,FALSE)) | D17: No grant | K17: =IF(I17=0,"",IF(C17="","Error",""))
A18: 8 | B18: Enter Account Title | C18: =IF(B18="Enter Account Title","",VLOOKUP(B18,Choices!$A$3:$C$47,3,FALSE)) | D18: No grant | K18: =IF(I18=0,"",IF(C18="","Error",""))
A19: 9 | B19: Enter Account Title | C19: =IF(B19="Enter Account Title","",VLOOKUP(B19,Choices!$A$3:$C$47,3,FALSE)) | D19: No grant | K19: =IF(I19=0,"",IF(C19="","Error",""))
A20: 10 | B20: Enter Account Title | C20: =IF(B20="Enter Account Title","",VLOOKUP(B20,Choices!$A$3:$C$47,3,FALSE)) | D20: No grant | K20: =IF(I20=0,"",IF(C20="","Error",""))
A21: 11 | B21: Enter Account Title | C21: =IF(B21="Enter Account Title","",VLOOKUP(B21,Choices!$A$3:$C$47,3,FALSE)) | D21: No grant | K21: =IF(I21=0,"",IF(C21="","Error",""))
A22: 12 | B22: Enter Account Title | C22: =IF(B22="Enter Account Title","",VLOOKUP(B22,Choices!$A$3:$C$47,3,FALSE)) | D22: No grant | K22: =IF(I22=0,"",IF(C22="","Error",""))
A23: 13 | B23: Enter Account Title | C23: =IF(B23="Enter Account Title","",VLOOKUP(B23,Choices!$A$3:$C$47,3,FALSE)) | D23: No grant | K23: =IF(I23=0,"",IF(C23="","Error",""))
A24: 14 | B24: Enter Account Title | C24: =IF(B24="Enter Account Title","",VLOOKUP(B24,Choices!$A$3:$C$47,3,FALSE)) | D24: No grant | K24: =IF(I24=0,"",IF(C24="","Error",""))
A25: 15 | B25: Enter Account Title | C25: =IF(B25="Enter Account Title","",VLOOKUP(B25,Choices!$A$3:$C$47,3,FALSE)) | D25: No grant | K25: =IF(I25=0,"",IF(C25="","Error",""))
... A60: 50 | B60: Enter Account Title | C60: =IF(B60="Enter Account Title","",VLOOKUP(B60,Choices!$A$3:$C$47,3,FALSE)) | D60: No grant | K60: =IF(I60=0,"",IF(C60="","Error",""))
B61: Total | I61: =SUM(I11:I60) -> 73.74
B63: Descriptions for travel are required to include city & state going to as well as purpose
B64: Descriptions for meals are required to include the names of all people eating | G64: =IF(COUNTIF(K11:K60,"ERROR")>0,"ERROR - NOT READY TO SEND IN",IF(K3="","OK TO SEND","ERROR - NOT READY TO SEND IN")) -> OK TO SEND
B65: Descriptions for client entertainment are required to include date, purpose and client (donor) names
B70: Employee Signature | F70: Approver's Name | G70: Approver's Signature
B73: Date | G73: Date
B78: FINAL CHECK
B79: Please make sure to submit all of the items below
B80: 1) This form with no Error Messages
B81: 2) Employee signature or electonic approval if emailing
B82: 3) Approver signature or eletronic approval from the manager
B83: 4) All receipts taped to a standard sheet of paper with the receipts labeled to match the numbers in column A
A85: * Last updated June 18, 2008

Sheet Mileage Reimb. Form
A1: [INSERT ORGANIZATION NAME] Mileage Reimbursement Form
A3: Employee Name | C3: Program/School | D3: School 1
A4: Employee Address | C4: For Period | D4: Enter Period
A5: City, State, Zip | C5: Rate Per Mile | D5: 0.5
A6: Email address | C6: Total Mileage | D6: =E53 -> 0
A7: Phone Number | C7: Total Reimbursement | D7: =F53 -> 0
A9: Date | B9: Starting Location | C9: Destination | D9: Description | E9: Mileage | F9: Reimbursement
F10: =$D$5*E10 -> 0
F11: =$D$5*E11 -> 0
F12: =$D$5*E12 -> 0
F13: =$D$5*E13 -> 0
F14: =$D$5*E14 -> 0
F15: =$D$5*E15 -> 0
F16: =$D$5*E16 -> 0
F17: =$D$5*E17 -> 0
F18: =$D$5*E18 -> 0
F19: =$D$5*E19 -> 0
F20: =$D$5*E20 -> 0
F21: =$D$5*E21 -> 0
... F34: =$D$5*E34 -> 0
F35: =E35*$D$3 -> #VALUE!
F36: =E36*$D$3 -> #VALUE!
F37: =E37*$D$3 -> #VALUE!
F38: =E38*$D$3 -> #VALUE!
F39: =E39*$D$3 -> #VALUE!
F40: =E40*$D$3 -> #VALUE!
F41: =E41*$D$3 -> #VALUE!
F42: =E42*$D$3 -> #VALUE!
F43: =E43*$D$3 -> #VALUE!
F44: =E44*$D$3 -> #VALUE!
F45: =E45*$D$3 -> #VALUE!
F46: =E46*$D$3 -> #VALUE!
... F52: =E52*$D$3 -> #VALUE!
D53: Totals | E53: =SUM(E10:E34) -> 0 | F53: =SUM(F10:F34) -> 0
A58: Employee Signature | D58: Approver's Name | E58: Approver's Signature
A61: Date | E61: Date
A63: A printout of the mileage from Google Maps, MapQuest, or similar site, must match the reported mileage and be submitted with the reimbursement form.
A64: The Description column must include the name and/or description of the conference, meeting, or professional development event attended.

Sheet Mileage Reimb. Directions
A1: [INSERT ORGANIZATION NAME] MILEAGE REIMBURSEMENT FORM DIRECTIONS
B3: The [INSERT ORGANIZATION NAME] Mileage Reimbursement Form is used to cover the mileage expenses incurred by an employee for school business and professional development. Please note that any travel an employee expects to be reimbursed for must first be approved by the School Leader. Approved mileage will be reimbursed at the 2010 IRS standard mileage rate of 50 cents per mile.
B5: DIRECTIONS - A Sample Completed Form is included in the Mileage Reimbursement Form Sample tab
B6: All cell references are for the Mileage Reimbursement Form tab unless indicated otherwise. The Mileage Reimbursement Form tab is the only tab that needs to be completed.
A8: 1 | B8: In cell B3, type your name.
A10: 2 | B10: In cells B4 & B5, enter your address.
A12: 3 | B12: In cell B6, enter the email address that you would like any questions sent to.
A14: 4 | B14: In cell B7, enter the phone number to be called if there are any questions
A16: 5 | B16: In cell D3, using the pull down menu, pick the description that best matches what school/program required the travel. Split Schools implies that the expenditure was used proportionately by the schools. Split All Entities implies that the expenditures was used by the schools and other [ORGANIZATION NAME] programs.
A18: 6 | B18: In cell D4, using the pull down menu, pick the period for which your mileage expenses relate. Each period in the menu covers 1/2 of a month. If you have expenses in more than one period, please fill out separate mileage reimbursement forms.
A20: 7 | B20: In cell A10, enter the date that the mileage was incurred. This date should be within the range listed in cell D4.
A22: 8 | B22: In cell B10, enter the location/address of the starting point of the mileage.
A24: 9 | B24: In cell C10, enter destination location/address.
A26: 10 | B26: In cell D10, enter a description of the trip. This should include the name of the conference, meeting, or professional development attended.
A28: 11 | B28: In cell E10, enter the mileage from the starting address to the destination location.
B30: Note: Each row should include information for each one-way trip. For example, if you travel from CITY 1 to CITY 2, the first row should show the starting address as CITY 1 and the destination as CITY 2. The next row should have CITY 2 as the starting point and CITY 1 as the destination.
A32: 12 | B32: Repeat steps 7-11 as needed.
B34: Note: If you need more lines, please let the finance department know and they add more lines . Please do not add lines using another methodology as the formulas may not work.
A36: [INSERT ORGANIZATION NAME] MILEAGE REIMBURSEMENT FORM - CONTINUED
A38: 13 | B38: Print out a mileage detail as backup from Google Maps, MapQuest, or a similar map website. Make sure that the mileage for each leg of the trip match the mileage entered in column E.
A40: 14 | B40: If submitting electronically, email the form and mileage detail to the finance department and the budget manager. In the email indicate that you approve the expenses and request the budget manager to email their approval. The respective Principals are the budget managers for the schools. You may also obtain approval from the School Operations Manager.
A42: 15 | B42: If submitting electronically, processing will begin once we receive the emailed form & mileage detail, your approval and the budget manager's approval. However, you still need to forward hard copies of the signed form and mileage detail to the finance department. Please keep a copy of all submitted items in case there is a problem during processing.
A44: 16 | B44: If submitting by mail or through your SOM, sign & date the form where it says Employee Signature (Cell A57) and Date (Cell A60). Then have your budget manager sign and date the form (Cells E57 and E60). The respective Principals are the budget managers for the schools. You may also obtain approval from the School Operations Manager.
B46: FINAL CHECK: Before submitting, please make sure that the reported information is accurate, it is approved by both yourself and the budget manager, and that the prinout of the mileage detail is attached.

Sheet Mileage Reimb. Form Sample
A1: [INSERT ORGANIZATION NAME] Mileage Reimbursement Form
A3: Employee Name | B3: John Doe | C3: Program/School | D3: School 1
A4: Employee Address | B4: 1234 Main Street | C4: For Period | D4: Oct 1-15, 2010
A5: City, State, Zip | B5: Anywhere, USA, 12345 | C5: Rate Per Mile | D5: 0.5
A6: Email address | B6: johndoe@school.org | C6: Total Mileage | D6: =E53 -> 205.8
A7: Phone Number | B7: 555-555-5555 | C7: Total Reimbursement | D7: =F53 -> 102.9
A9: Date | B9: Starting Location | C9: Destination | D9: Description | E9: Mileage | F9: Reimbursement
A10: 40465 | B10: School Name 1 | C10: Hilton Riverside | D10: Charter School Conference | E10: 124 | F10: =$D$5*E10 -> 62
A11: 40466 | B11: Hilton Riverside Hotel | C11: Home address | D11: Charter School Conference | E11: 81.8 | F11: =$D$5*E11 -> 40.9
F12: =$D$5*E12 -> 0
F13: =$D$5*E13 -> 0
F14: =$D$5*E14 -> 0
F15: =$D$5*E15 -> 0
F16: =$D$5*E16 -> 0
F17: =$D$5*E17 -> 0
F18: =$D$5*E18 -> 0
F19: =$D$5*E19 -> 0
F20: =$D$5*E20 -> 0
F21: =$D$5*E21 -> 0
F22: =$D$5*E22 -> 0
F23: =$D$5*E23 -> 0
... F34: =$D$5*E34 -> 0
F35: =E35*$D$3 -> #VALUE!
F36: =E36*$D$3 -> #VALUE!
F37: =E37*$D$3 -> #VALUE!
F38: =E38*$D$3 -> #VALUE!
F39: =E39*$D$3 -> #VALUE!
F40: =E40*$D$3 -> #VALUE!
F41: =E41*$D$3 -> #VALUE!
F42: =E42*$D$3 -> #VALUE!
F43: =E43*$D$3 -> #VALUE!
F44: =E44*$D$3 -> #VALUE!
F45: =E45*$D$3 -> #VALUE!
F46: =E46*$D$3 -> #VALUE!
... F52: =E52*$D$3 -> #VALUE!
D53: Totals | E53: =SUM(E10:E34) -> 205.8 | F53: =SUM(F10:F34) -> 102.9
A58: Employee Signature | D58: Approver's Name | E58: Approver's Signature
A61: Date | E61: Date
A63: A printout of the mileage from Google Maps, MapQuest, or similar site, must match the reported mileage and be submitted with the reimbursement form.
A64: The Description column must include the name and/or description of the conference, meeting, or professional development event attended.

Sheet Choices
A1: School's Chart of Accounts | F1: Dates | I1: School Entity | K1: Entity Code | M1: Delivery of Check | O1: Chart of Accounts - Account
A2: Enter Account Title | B2: Description | C2: Acct # | F2: Enter Period | G2: End Date | I2: Enter Program/School | M2: Address on Form | O2: Account Title | P2: Description | Q2: Acct #
A3: Classroom Supplies | B3: Supplies used in the classroom, whether by students or teachers. This should be used as the default supply code unless specific information identifies a more appropriate account. | C3: 110611 | F3: Jul 1-15, 2010 | G3: 39979 | I3: School Name 1 | J3: Use for expenditures primarily related to [ORGANIZATION] programs not specified elsewhere. This includes overall [ORGANIZATION] management. | K3: 1 | M3: [ORGANIZATION] Central Office | O3: No grant | Q3: 0
A4: Durables Curriculum (Non-Capital) | B4: Textbooks, reading books and other curriculum materials that last more than a year but do not qualify for capitalization. | C4: 110642 | F4: Jul 16-31, 2010 | G4: 39994 | I4: School Name 2 | J4: Use for expenditures primarily related to [SCHOOL NAME]. | K4: 3 | M4: School Name 1 | O4: Title IA | Q4: 1
A5: Consumables | B5: Workbooks, textbooks or manipulatives that last less than one year related to any subject | C5: 110643 | F5: Aug 1-15, 2010 | G5: 40009 | I5: School Name 3 | J5: Use for expenditures primarily related to [SCHOOL NAME]. | K5: 4 | M5: School Name 2 | O5: Title IIA | Q5: 2
A6: Professional Development OTPS | B6: Costs related to the training of principals, teachers or any other employees. Food at staff meetings, staff gifts, conference costs, space rental costs for training or any other professional development related cost other than travel would be coded here. | C6: 223325 | F6: Aug 16-31, 2010 | G6: 40025 | I6: School Name 4 | J6: Use for expenditures primarily related to [SCHOOL NAME]. | K6: 5 | M6: School Name 3 | O6: Title IV | Q6: 4
A7: Travel | B7: Costs related to the training of principals, teachers or any other employees. Food at staff meetings, staff gifts, conference costs, space rental costs for training or any other professional development related cost other than travel would be coded here. | C7: 223580 | F7: Sep 1-15, 2010 | G7: 40040 | I7: School Name 5 | J7: Use for expenditures primarily related to [SCHOOL NAME]. | K7: 6 | M7: School Name 4 | O7: Title V | Q7: 5
A8: Food for Special Events | B8: Food for school events including parent events, special occasion parties or student rewards. Food service program shortfalls (such as lunch) should be coded under food service management. Food for in-house professional development meetings should be coded under professional development. | C8: 110618 | F8: Sep 16-30, 2010 | G8: 40056 | I8: School Name 6 | J8: Use for expenditures primarily related to [SCHOOL NAME]. | K8: 7 | M8: School Name 5 | O8: PCSP | Q8: 10
A9: Library Books | B9: Books for either a school library or classroom library that are not assigned to particular students. | C9: 225641 | F9: Oct 1-15, 2010 | G9: 40071 | I9: Split Schools | J9: Use for expenditures that are related to all schools and should be split fairly between the schools. Things like overall school trainings or unallocable educational vendor costs would be coded here. | K9: 55 | M9: Organization Name | O9: School Improvement | Q9: 11
A10: Non-Instructional Travel & Food | B10: Travel, food and other costs not associated with professional development. Such costs would include taxi costs at night, travel costs between entities, or costs associated with meetings with the district. | C10: 240580 | F10: Oct 16-31, 2010 | G10: 40086 | I10: Split All Entities | J10: Use for expenditures that are related to all entities and shold be fairly allocated to all organizations. This includes things like insurance. | K10: 99 | O10: Title IID | Q10: 12
A11: Office Supplies | B11: Supplies used primarily in the administrative offices such as folders, binders, pens, pencils and paper clips. The majority of supplies are used within the classroom or by teachers and should be coded to the classroom supplies account. | C11: 240611 | F11: Nov 1-15, 2010 | G11: 40101 | O11: IDEA | Q11: 20
A12: Mobile Phones | B12: Cell phone charges including data packages used by staff for business related calls. Phone charges at hotels for professional development conferences should be included in the professional development account bucket. | C12: 110533 | F12: Nov 16-30, 2010 | G12: 40117 | O12: Federal Food Service | Q12: 30
A13: Paper/Copier Supplies | B13: Copy paper, tonor, staples or other supplies used in making copies. | C13: 110614 | F13: Dec 1-15, 2010 | G13: 40132 | O13: State Food Service | Q13: 230
A14: Field Lessons | B14: Costs related to field trips including trips to local businesses, colleges and museums. | C14: 110617 | F14: Dec 16-31, 2010 | G14: 40147 | O14: Food Service Cash | Q14: 930
A15: Educational Magazines | B15: Subsciptions to magazines or newspapers provided to students, used in the classroom or provided to staff. | C15: 110644 | F15: Jan 1-15, 2011 | G15: 40162 | O15: 21st Century
A16: Equipment & Furniture (Non-Capital) | B16: Equipment & furniture that does not qualify to be capitalized and is used at the school other than in the administrative office such as a desktop computer, overhead projectors, printers, student desks, teacher desks & chairs, and carts | C16: 110730 | F16: Jan 16-31, 2011 | G16: 40178 | O16: Big Buddy
A17: Postage & Shipping | B17: Costs associated with mailing or shipping goods including couriers. Typical vendors for this include Federal Express and the United States Postal Service. Postage machine and online postage service costs would also be coded here. | C17: 240535 | F17: Feb 1-15, 2011 | G17: 40193 | O17: TAP
A18: Student Recruiting & Parent Involvement | B18: Costs incurred to attract and retain students such as advertising. Also includes costs associated with parent involvement and community development such as parent committee costs, parent mailings, non-recruiting parent information sessions, community information sessions or community sponsorships. | C18: 240540 | F18: Feb 16-28, 2011 | G18: 40209 | O18: TANIF
A19: Non-Instructional Equipment & Furniture | B19: Equipment and furniture used outside of the classroom such as file cabinets, office fax machine or printer and office furniture. | C19: 240730 | F19: Mar 1-15, 2011 | G19: 40224 | O19: Gear Up
A20: Custodial Services & Supplies | B20: Costs associated with cleaning the facilities including cleaning/maintenance companies, cleaning supplies and bathroom supplies. | C20: 262420 | F20: Mar 16-31, 2011 | G20: 40237 | O20: ESYP
A21: Startup Supplies | B21: Supplies used in support of opening a new school or starting a new grade including curriculum development, initial training, conferences and mentoring. | C21: 281611 | F21: Apr 1-15, 2011 | G21: 40252
A22: Teacher Recruiting & Orientation | B22: Costs associated with recruiting new staff to any of the entities including advertising, job postings, job fairs, travel for potential recruits, and recruiting meals. | C22: 283540 | F22: Apr 16-30, 2011 | G22: 40268
A23: Technology Supplies | B23: Supplies and small items associated with the technology infrastructure including replacement keyboards, routers, and cables | C23: 284611 | F23: May 1-15, 2011 | G23: 40283
A24: Assessment | B24: Testing materials including state & national standardized assessments, assessment grading or online assessments. | C24: 110323 | F24: May 16-31, 2011 | G24: 40298
A25: Student Tuition | B25: Tuition paid to third parties on behalf of students at the school such as college level course costs at a local university, college preparation courses or online education courses. | C25: 110560 | F25: Jun 1-15, 2011 | G25: 40313
A26: Educational software | B26: Software used in the educational program | C26: 110616 | F26: Jun 16-30, 2011 | G26: 40329
A27: Sped Consummables | B27: Any books, classroom supplies, classroom equipment or other materials used primarily for the special education program | C27: 120643 | F27: Jul 1-15, 2011 | G27: 40344
A28: Extracurricular Supplies | B28: Supplies and materials related to non-athletic after school activities such as club travel costs, competition supplies, uniforms and club equipment | C28: 141611 | F28: Jul 16-31, 2011 | G28: 40359
A29: Athletic Supplies | B29: Uniforms, sports equipment, or other non-people items used in athletic programs. | C29: 142611 | G29: 40009
A30: Summer School Supplies | B30: Costs outside of salaries related to running the summer school program such as materials or permit fees. Costs associated with books & materials provided to students to read over the summer would also be included here. | C30: 149611 | G30: 40025
A31: Maintenance & Repairs | B31: Ongoing facility & grounds related maintenance and repair costs including things like repairs to air conditioners and water fountains. Also includes minor improvements that do not qualify for capitalization but represent improvements to the facilities such as painting, student art boards and other temporary improvements. | C31: 262430 | G31: 40040
A32: Fundraising Supplies | B32: Fundraising and communications materials such as meals with potential fundraisers, travel, parking, telephone calls, mailings, gifts to fundraisers, event costs and marketing materials | C32: 290611 | G32: 40056
A33: Field Trips - Parent Funded | B33: Amounts collected from students or parents for field trips along with amounts paid for such trips. Job classifications in Quickbooks should be used to separate which trips money was collected and paid for if there are multiple trips. | C33: 7010 | G33: 40071
A34: Activities Account - After School Club 1 | B34: Amounts collected from students, parents or fundraisers for After School Club 1 along with amounts paid for such club costs. | C34: 7050 | G34: 40086
A35: Activities Account - After School Club 2 | B35: Amounts collected from students, parents or fundraisers for After School Club 2 along with amounts paid for such club costs. | C35: 7051 | G35: 40101
A36: Activities Account - After School Club 3 | B36: Amounts collected from students, parents or fundraisers for After School Club 3 along with amounts paid for such club costs. | C36: 7052 | G36: 40117
A37: Activities Account - After School Club 4 | B37: Amounts collected from students, parents or fundraisers for After School Club 4 along with amounts paid for such club costs. | C37: 7053 | G37: 40132
A38: Activities Account - After School Club 5 | B38: Amounts collected from students, parents or fundraisers for After School Club 5 along with amounts paid for such club costs. | C38: 7054 | G38: 40147
A39: Activities Account - After School Club 6 | B39: Amounts collected from students, parents or fundraisers for After School Club 6 along with amounts paid for such club costs. | C39: 7055 | G39: 40162
A40: Other Activities | B40: Amounts collected from students, parents or fundraisers for Activities not classified elsewhere along with amounts paid for such activities. | C40: 7090 | G40: 40178
...

Sheet Choices2
A1: Enter Period | C1: Enter Program/School
A2: Jul 1-15, 2010 | C2: Shared School Services
A3: Jul 16-31, 2010 | C3: School 1
A4: Aug 1-15, 2010 | C4: School 2
A5: Aug 16-31, 2010 | C5: School 3
A6: Sep 1-15, 2010 | C6: School 4
A7: Sep 16-30, 2010 | C7: School 5
A8: Oct 1-15, 2010 | C8: School Split
A9: Oct 16-31, 2010 | C9: Split All Entities
A10: Nov 1-15, 2010
A11: Nov 16-30, 2010
A12: Dec 1-15, 2010
A13: Dec 16-31, 2010
A14: Jan 1-15, 2011
A15: Jan 16-31, 2011
A16: Feb 1-15, 2011
A17: Feb 16-28, 2011
A18: Mar 1-15, 2011
A19: Mar 16-31, 2011
A20: Apr 1-15, 2011
A21: Apr 16-30, 2011
... A27: Jul 16-31, 2011

Sheet Entry
A1: =IF('Expense Report'!G64="ERROR - NOT READY TO SEND IN","ERROR","!TRNS") -> ERROR | B1: TRNSID | C1: TRNSTYPE | D1: DATE | E1: ACCNT | F1: NAME | G1: AMOUNT | H1: DOCNUM | I1: MEMO | J1: DUEDATE
A2: =IF('Expense Report'!G64="ERROR - NOT READY TO SEND IN","ERROR","!SPL") -> ERROR | B2: SPLID | C2: TRNSTYPE | D2: DATE | E2: ACCNT | F2: NAME | G2: AMOUNT | H2: DOCNUM | I2: MEMO | J2: DUEDATE
A3: =IF('Expense Report'!G64="ERROR - NOT READY TO SEND IN","ERROR","!ENDTRNS") -> ERROR
A4: TRNS | C4: =IF(G4="","","BILL") | D4: =IF(G4="","",'Expense Report'!$P$3) | E4: =IF(G4="","",9999105) | F4: =IF(G4="","",'Expense Report'!C3) | G4: =IF('Expense Report'!I61=0,"",-ROUND('Expense Report'!I61,2)) | H4: =IF(G4="","",'Expense Report'!$P$5) | I4: =IF(G4="","","Inv #:" & 'Expense Report'!$P$5 & ", AP Code: " & 'Expense Report'!$P$4) | J4: =IF(G4="","",'Expense Report'!$P$6)
A5: =IF(G5="","","SPL") | C5: =IF(G5="","","BILL") | D5: =IF(G5="","",'Expense Report'!$P$3) | E5: =IF(G5="","",'Expense Report'!C11) | F5: =IF(G5="","",IF('Expense Report'!D11="No grant","",'Expense Report'!D11)) | G5: =IF('Expense Report'!I61=0,"",-SUM(G4,G6:G54)) | H5: =IF(G5="","",'Expense Report'!$P$5) | I5: =IF(G5="","","Exp Report: " & 'Expense Report'!$P$5 & " " & 'Expense Report'!G11) | J5: =IF(G5="","",'Expense Report'!$P$6)
A6: =IF(G6="","","SPL") | C6: =IF(G6="","","BILL") | D6: =IF(G6="","",'Expense Report'!$P$3) | E6: =IF(G6="","",'Expense Report'!C12) | F6: =IF(G6="","",IF('Expense Report'!D12="No grant","",'Expense Report'!D12)) | G6: =IF('Expense Report'!I12=0,"",ROUND('Expense Report'!I12,2)) | H6: =IF(G6="","",'Expense Report'!$P$5) | I6: =IF(G6="","","Exp Report: " & 'Expense Report'!$P$5 & " " & 'Expense Report'!G12) | J6: =IF(G6="","",'Expense Report'!$P$6)
A7: =IF(G7="","","SPL") | C7: =IF(G7="","","BILL") | D7: =IF(G7="","",'Expense Report'!$P$3) | E7: =IF(G7="","",'Expense Report'!C13) | F7: =IF(G7="","",IF('Expense Report'!D13="No grant","",'Expense Report'!D13)) | G7: =IF('Expense Report'!I13=0,"",ROUND('Expense Report'!I13,2)) | H7: =IF(G7="","",'Expense Report'!$P$5) | I7: =IF(G7="","","Exp Report: " & 'Expense Report'!$P$5 & " " & 'Expense Report'!G13) | J7: =IF(G7="","",'Expense Report'!$P$6)
A8: =IF(G8="","","SPL") | C8: =IF(G8="","","BILL") | D8: =IF(G8="","",'Expense Report'!$P$3) | E8: =IF(G8="","",'Expense Report'!C14) | F8: =IF(G8="","",IF('Expense Report'!D14="No grant","",'Expense Report'!D14)) | G8: =IF('Expense Report'!I14=0,"",ROUND('Expense Report'!I14,2)) | H8: =IF(G8="","",'Expense Report'!$P$5) | I8: =IF(G8="","","Exp Report: " & 'Expense Report'!$P$5 & " " & 'Expense Report'!G14) | J8: =IF(G8="","",'Expense Report'!$P$6)
A9: =IF(G9="","","SPL") | C9: =IF(G9="","","BILL") | D9: =IF(G9="","",'Expense Report'!$P$3) | E9: =IF(G9="","",'Expense Report'!C15) | F9: =IF(G9="","",IF('Expense Report'!D15="No grant","",'Expense Report'!D15)) | G9: =IF('Expense Report'!I15=0,"",ROUND('Expense Report'!I15,2)) | H9: =IF(G9="","",'Expense Report'!$P$5) | I9: =IF(G9="","","Exp Report: " & 'Expense Report'!$P$5 & " " & 'Expense Report'!G15) | J9: =IF(G9="","",'Expense Report'!$P$6)
A10: =IF(G10="","","SPL") | C10: =IF(G10="","","BILL") | D10: =IF(G10="","",'Expense Report'!$P$3) | E10: =IF(G10="","",'Expense Report'!C16) | F10: =IF(G10="","",IF('Expense Report'!D16="No grant","",'Expense Report'!D16)) | G10: =IF('Expense Report'!I16=0,"",ROUND('Expense Report'!I16,2)) | H10: =IF(G10="","",'Expense Report'!$P$5) | I10: =IF(G10="","","Exp Report: " & 'Expense Report'!$P$5 & " " & 'Expense Report'!G16) | J10: =IF(G10="","",'Expense Report'!$P$6)
A11: =IF(G11="","","SPL") | C11: =IF(G11="","","BILL") | D11: =IF(G11="","",'Expense Report'!$P$3) | E11: =IF(G11="","",'Expense Report'!C17) | F11: =IF(G11="","",IF('Expense Report'!D17="No grant","",'Expense Report'!D17)) | G11: =IF('Expense Report'!I17=0,"",ROUND('Expense Report'!I17,2)) | H11: =IF(G11="","",'Expense Report'!$P$5) | I11: =IF(G11="","","Exp Report: " & 'Expense Report'!$P$5 & " " & 'Expense Report'!G17) | J11: =IF(G11="","",'Expense Report'!$P$6)
A12: =IF(G12="","","SPL") | C12: =IF(G12="","","BILL") | D12: =IF(G12="","",'Expense Report'!$P$3) | E12: =IF(G12="","",'Expense Report'!C18) | F12: =IF(G12="","",IF('Expense Report'!D18="No grant","",'Expense Report'!D18)) | G12: =IF('Expense Report'!I18=0,"",ROUND('Expense Report'!I18,2)) | H12: =IF(G12="","",'Expense Report'!$P$5) | I12: =IF(G12="","","Exp Report: " & 'Expense Report'!$P$5 & " " & 'Expense Report'!G18) | J12: =IF(G12="","",'Expense Report'!$P$6)
A13: =IF(G13="","","SPL") | C13: =IF(G13="","","BILL") | D13: =IF(G13="","",'Expense Report'!$P$3) | E13: =IF(G13="","",'Expense Report'!C19) | F13: =IF(G13="","",IF('Expense Report'!D19="No grant","",'Expense Report'!D19)) | G13: =IF('Expense Report'!I19=0,"",ROUND('Expense Report'!I19,2)) | H13: =IF(G13="","",'Expense Report'!$P$5) | I13: =IF(G13="","","Exp Report: " & 'Expense Report'!$P$5 & " " & 'Expense Report'!G19) | J13: =IF(G13="","",'Expense Report'!$P$6)
A14: =IF(G14="","","SPL") | C14: =IF(G14="","","BILL") | D14: =IF(G14="","",'Expense Report'!$P$3) | E14: =IF(G14="","",'Expense Report'!C20) | F14: =IF(G14="","",IF('Expense Report'!D20="No grant","",'Expense Report'!D20)) | G14: =IF('Expense Report'!I20=0,"",ROUND('Expense Report'!I20,2)) | H14: =IF(G14="","",'Expense Report'!$P$5) | I14: =IF(G14="","","Exp Report: " & 'Expense Report'!$P$5 & " " & 'Expense Report'!G20) | J14: =IF(G14="","",'Expense Report'!$P$6)
A15: =IF(G15="","","SPL") | C15: =IF(G15="","","BILL") | D15: =IF(G15="","",'Expense Report'!$P$3) | E15: =IF(G15="","",'Expense Report'!C21) | F15: =IF(G15="","",IF('Expense Report'!D21="No grant","",'Expense Report'!D21)) | G15: =IF('Expense Report'!I21=0,"",ROUND('Expense Report'!I21,2)) | H15: =IF(G15="","",'Expense Report'!$P$5) | I15: =IF(G15="","","Exp Report: " & 'Expense Report'!$P$5 & " " & 'Expense Report'!G21) | J15: =IF(G15="","",'Expense Report'!$P$6)
A16: =IF(G16="","","SPL") | C16: =IF(G16="","","BILL") | D16: =IF(G16="","",'Expense Report'!$P$3) | E16: =IF(G16="","",'Expense Report'!C22) | F16: =IF(G16="","",IF('Expense Report'!D22="No grant","",'Expense Report'!D22)) | G16: =IF('Expense Report'!I22=0,"",ROUND('Expense Report'!I22,2)) | H16: =IF(G16="","",'Expense Report'!$P$5) | I16: =IF(G16="","","Exp Report: " & 'Expense Report'!$P$5 & " " & 'Expense Report'!G22) | J16: =IF(G16="","",'Expense Report'!$P$6)
A17: =IF(G17="","","SPL") | C17: =IF(G17="","","BILL") | D17: =IF(G17="","",'Expense Report'!$P$3) | E17: =IF(G17="","",'Expense Report'!C23) | F17: =IF(G17="","",IF('Expense Report'!D23="No grant","",'Expense Report'!D23)) | G17: =IF('Expense Report'!I23=0,"",ROUND('Expense Report'!I23,2)) | H17: =IF(G17="","",'Expense Report'!$P$5) | I17: =IF(G17="","","Exp Report: " & 'Expense Report'!$P$5 & " " & 'Expense Report'!G23) | J17: =IF(G17="","",'Expense Report'!$P$6)
... A54: =IF(G54="","","SPL") | C54: =IF(G54="","","BILL") | D54: =IF(G54="","",'Expense Report'!$P$3) | E54: =IF(G54="","",'Expense Report'!C60) | F54: =IF(G54="","",IF('Expense Report'!D60="No grant","",'Expense Report'!D60)) | G54: =IF('Expense Report'!I60=0,"",ROUND('Expense Report'!I60,2)) | H54: =IF(G54="","",'Expense Report'!$P$5) | I54: =IF(G54="","","Exp Report: " & 'Expense Report'!$P$5 & " " & 'Expense Report'!G60) | J54: =IF(G54="","",'Expense Report'!$P$6)
A55: =IF(G55="","","SPL") | C55: =IF(G55="","","BILL") | D55: =IF(G55="","",'Expense Report'!$P$3) | E55: =IF(G55="","",5005061) | F55: =IF(G55="","",'Expense Report'!$C$3) | G55: =IF(A4="","",IF('Expense Report'!P9=0,"",-'Expense Report'!P9)) | H55: =IF(G55="","",'Expense Report'!$P$5) | I55: =IF(G55="","","Inv #:" & 'Expense Report'!$P$5 & ", AP Code: " & 'Expense Report'!$P$4) | J55: =IF(G55="","",'Expense Report'!$P$6)
A56: =IF(G56="","","SPL") | C56: =IF(G56="","","BILL") | D56: =IF(G56="","",'Expense Report'!$P$3) | E56: =IF(G56="","",6005061) | F56: =IF(G56="","",'Expense Report'!$C$3) | G56: =IF(A5="","",IF('Expense Report'!P10=0,"",-'Expense Report'!P10)) | H56: =IF(G56="","",'Expense Report'!$P$5) | I56: =IF(G56="","","Inv #:" & 'Expense Report'!$P$5 & ", AP Code: " & 'Expense Report'!$P$4) | J56: =IF(G56="","",'Expense Report'!$P$6)
A57: =IF(G57="","","SPL") | C57: =IF(G57="","","BILL") | D57: =IF(G57="","",'Expense Report'!$P$3) | E57: =IF(G57="","",7005061) | F57: =IF(G57="","",'Expense Report'!$C$3) | G57: =IF(A6="","",IF('Expense Report'!P11=0,"",-'Expense Report'!P11)) | H57: =IF(G57="","",'Expense Report'!$P$5) | I57: =IF(G57="","","Inv #:" & 'Expense Report'!$P$5 & ", AP Code: " & 'Expense Report'!$P$4) | J57: =IF(G57="","",'Expense Report'!$P$6)
A58: =IF(G58="","","SPL") | C58: =IF(G58="","","BILL") | D58: =IF(G58="","",'Expense Report'!$P$3) | E58: =IF(G58="","",1001071) | F58: =IF(G58="","",'Expense Report'!$C$3) | G58: =IF(A4="","",IF('Expense Report'!P9=0,"",-G55)) | H58: =IF(G58="","",'Expense Report'!$P$5) | I58: =IF(G58="","","Inv #:" & 'Expense Report'!$P$5 & ", AP Code: " & 'Expense Report'!$P$4) | J58: =IF(G58="","",'Expense Report'!$P$6)
A59: =IF(G59="","","SPL") | C59: =IF(G59="","","BILL") | D59: =IF(G59="","",'Expense Report'!$P$3) | E59: =IF(G59="","",1001072) | F59: =IF(G59="","",'Expense Report'!$C$3) | G59: =IF(A5="","",IF('Expense Report'!P10=0,"",-G56)) | H59: =IF(G59="","",'Expense Report'!$P$5) | I59: =IF(G59="","","Inv #:" & 'Expense Report'!$P$5 & ", AP Code: " & 'Expense Report'!$P$4) | J59: =IF(G59="","",'Expense Report'!$P$6)
A60: =IF(G60="","","SPL") | C60: =IF(G60="","","BILL") | D60: =IF(G60="","",'Expense Report'!$P$3) | E60: =IF(G60="","",1001073) | F60: =IF(G60="","",'Expense Report'!$C$3) | G60: =IF(A6="","",IF('Expense Report'!P11=0,"",-G57)) | H60: =IF(G60="","",'Expense Report'!$P$5) | I60: =IF(G60="","","Inv #:" & 'Expense Report'!$P$5 & ", AP Code: " & 'Expense Report'!$P$4) | J60: =IF(G60="","",'Expense Report'!$P$6)
A61: =IF(A4="","","ENDTRNS") -> ENDTRNS
J62: =IF(G62="","",'[2]Acct Pay'!G19)
J63: =IF(G63="","",'[2]Acct Pay'!G19)
J64: =IF(G64="","",'[2]Acct Pay'!G19)
J65: =IF(G65="","",'[2]Acct Pay'!G19)
